Workbook

Sheet Instructions
A1: THANET MUSIC AND DRAMA FESTIVAL ENTRY FORMS 2022
A3: NB These entry forms are NOT for DANCE entrants. Please follow the link on our website to be re-directed to the dance entry form
A5: This year we have changed the entry form to make it easier for all of us, you included (we hope!)
A6: It should be less trouble for you, and the spreadsheet will do the maths for you for costs too.
A7: Please could you follow the instructions below to ensure it all works smoothly!
A8: Many thanks
A10: Choose your section and go to that sheet. You will be able to enter for as many sections as you wish, but only do one section per sheet
A11: 1 | B11: Using the drop down menu, choose the class you wish to enter, add the other details for 1 entrant to that class and continue to line 2
A12: 2 | B12: You can enter as many entrants into as many classes as you wish… and once you begin typing a name for a 2nd time, it will fill the cell for you
A13: 3 | B13: The total cost is calculated as you add your entrants, so you can see the running total
A14: 4 | B14: Continue onto other sections you wish to enter
A15: 5 | B15: Once you have completed all sections you wish to enter, please complete this form:
A17: Your name | E17: Your school/academy etc if applicable
A18: Phone no. | F18: Email
A19: Postal address | G19: Town | K19: Postcode
A21: 6 | B21: Please indicate which sections you have entered & how many programmes you require (at £3.50 each inc p&p) The price of programmes at the venues this year will be £4 so you might wish to order more in advance)
B22: You might also wish to help us by becoming a Friend of the Festival (entry to all sections of the festival, RESERVED seats at the Gala Concert and FREE programme… £15 per person, £25 per couple)
B23: Type a small "a" to tick the boxes | F23: Speech and drama? | H23: ='Speech & Drama'!H1 -> 0
F24: Vocal & Choral? | H24: ='Vocal & Choral'!H1 -> 0
F25: Piano? | H25: =Piano!H1 -> 0
F26: Instrumental? | H26: =Instrumental!I1 -> 0
F27: Number of Programmes required | H27: =G27*3.5 -> 0
D28: Please type yes if required | F28: Friend sub | H28: =IF(G28="Yes",15,0) -> 0
F29: Friend, couple | H29: =IF(G29="Yes",25,0) -> 0
G30: Total cost | H30: =SUM(H23:H29) -> 0
A31: 7 | B31: Please pay the "total cost" sum by BACS using your surname as the reference
B32: Thanet Music and Drama Festival
B33: 20-17-92
B34: 50863386
A35: 8 | B35: Email the entry form to tmdf@live.co.uk, saving it as "Your surname" entry forms 2021 eg Myhill entry forms 2021
B36: I WILL acknowledge every entry form received, so if you do not hear from me within a week of sending the form, please try again or phone me on 01843 600059. Thank you
B37: Lynn Myhill
B38: TMDF secretary

Sheet S and D
A1: DRAMA (these classes will normally be on the Saturday morning or Sunday at the Sarah Thorne)
A2: S70 GROUP DRAMA: School yrs 11-13 | B2: Own choice | C2: 15
A3: S71 GROUP DRAMA: School yrs 7-10 | B3: Own choice | C3: 15
A4: S72 GROUP DRAMA: School yrs 6 & under | B4: Own choice | C4: 15
A5: S73 GROUP IMPROVISATION: School yrs 7 & over | B5: Set | C5: 15
A6: S74 GROUP IMPROVISATION: School yrs 6 & under | B6: Set | C6: 15
A7: S75 DUOLOGUE: OPEN | B7: Own choice | C7: 9
A8: S76 DUOLOGUE: School yrs 7-10 | B8: Own choice | C8: 9
A9: S77 DUOLOGUE: School yrs 6 & under | B9: Own choice | C9: 9
A10: S78 SHAKESPEARE MONOLOGUE: OPEN | B10: Own choice | C10: 7
A11: S79SHAKESPEARE MONOLOGUE: Years 10 & under | B11: Own choice | C11: 7
A12: S80 MONOLOGUE: OPEN | B12: Own choice | C12: 7
A13: S81 MONOLOGUE:School yrs 11-13 | B13: Own choice | C13: 7
... A80: S148 SEQUENCE – GROUP | B80: Own choice | C80: 10

Sheet Speech & Drama
A1: Speech or Drama Class | B1: Fee | C1: Name of entrant/s (put group name if applicable) | D1: Date of birth (if applicable) | E1: School year/s | G1: TOTAL FEE: | H1: =SUM(B2:B101) -> 0
B2: =_xlfn.IFNA(VLOOKUP(A2,'S and D'!A:C,3,0),"")
B3: =_xlfn.IFNA(VLOOKUP(A3,'S and D'!A:C,3,0),"")
B4: =_xlfn.IFNA(VLOOKUP(A4,'S and D'!A:C,3,0),"")
B5: =_xlfn.IFNA(VLOOKUP(A5,'S and D'!A:C,3,0),"")
B6: =_xlfn.IFNA(VLOOKUP(A6,'S and D'!A:C,3,0),"")
B7: =_xlfn.IFNA(VLOOKUP(A7,'S and D'!A:C,3,0),"")
B8: =_xlfn.IFNA(VLOOKUP(A8,'S and D'!A:C,3,0),"")
B9: =_xlfn.IFNA(VLOOKUP(A9,'S and D'!A:C,3,0),"")
B10: =_xlfn.IFNA(VLOOKUP(A10,'S and D'!A:C,3,0),"")
B11: =_xlfn.IFNA(VLOOKUP(A11,'S and D'!A:C,3,0),"")
B12: =_xlfn.IFNA(VLOOKUP(A12,'S and D'!A:C,3,0),"")
B13: =_xlfn.IFNA(VLOOKUP(A13,'S and D'!A:C,3,0),"")
... B101: =_xlfn.IFNA(VLOOKUP(A101,'S and D'!A:C,3,0),"")

Sheet V & C
A1: V1 SET SOLO SONG - GIRLS (11 & under) | B1: 4.5
A2: V2 SET SOLO SONG - GIRLS (13 & under) | B2: 5
A3: V3 SET SOLO SONG - GIRLS (16 & under) | B3: 5.5
A4: V4 SET SOLO SONG - GIRLS (18 & under) | B4: 5.5
A5: V5 SET SOLO SONG – BOYS (11 & under) | B5: 4.5
A6: V6 SET SOLO SONG – BOYS (13 & under) | B6: 5
A7: V7 YOUNG MEN – VOCAL SOLO – BROKEN VOICES (21 & under) | B7: 5.5
A8: V8 ART SONG – BOY or GIRL (11 & under) | B8: 4.5
A9: V9 ART SONG – BOY or GIRL (13 & under) | B9: 5
A10: V10 ART SONG – BOY OR GIRL (16 & under) | B10: 5.5
A11: V11 ART SONG – BOY OR GIRL (18 & under) | B11: 5.5
A12: V12 LIGHT OPERA OR MUSICAL (11 & under) | B12: 5
... A35: V34 VOCAL DUET (Adult) | B35: 7.5
A36: CHORAL SECTION
A37: C1 CHOIR – BOYS and/or GIRLS (year 6 and under) | B37: 11
A38: C2 CHOIR – BOYS and/or GIRLS (years 7-13) | B38: 11
A39: C3 CHOIRS SINGING SECULAR OR SACRED MUSIC – any age | B39: 11
A40: SIGNING SECTION
A41: C4 CHOIRS SINGING AND SIGNING – any age | B41: 11

Sheet Vocal & Choral
A1: Vocal and Choral Classes | B1: Fee | C1: Name of entrant/s (put group name if applicable) | D1: Date of birth (if applicable) | E1: School year/s | G1: TOTAL FEE: | H1: =SUM(B2:B101) -> 0
B2: =_xlfn.IFNA(VLOOKUP(A2,'[1]V & C'!A:B,2,0),"")
B3: =_xlfn.IFNA(VLOOKUP(A3,'[1]V & C'!A:B,2,0),"")
B4: =_xlfn.IFNA(VLOOKUP(A4,'[1]V & C'!A:B,2,0),"")
B5: =_xlfn.IFNA(VLOOKUP(A5,'[1]V & C'!A:B,2,0),"")
B6: =_xlfn.IFNA(VLOOKUP(A6,'[1]V & C'!A:B,2,0),"")
B7: =_xlfn.IFNA(VLOOKUP(A7,'[1]V & C'!A:B,2,0),"")
B8: =_xlfn.IFNA(VLOOKUP(A8,'[1]V & C'!A:B,2,0),"")
B9: =_xlfn.IFNA(VLOOKUP(A9,'[1]V & C'!A:B,2,0),"")
B10: =_xlfn.IFNA(VLOOKUP(A10,'[1]V & C'!A:B,2,0),"")
B11: =_xlfn.IFNA(VLOOKUP(A11,'[1]V & C'!A:B,2,0),"")
B12: =_xlfn.IFNA(VLOOKUP(A12,'[1]V & C'!A:B,2,0),"")
B13: =_xlfn.IFNA(VLOOKUP(A13,'[1]V & C'!A:B,2,0),"")
... B101: =_xlfn.IFNA(VLOOKUP(A101,'[1]V & C'!A:B,2,0),"")

Sheet P
A2: P150a UNDER 18 REPERTOIRE CLASS - Grade 1 | B2: 5.5
A3: P150b UNDER 18 REPERTOIRE CLASS - Grade 2 | B3: 5.5
A4: P150c UNDER 18 REPERTOIRE CLASS - Grade 3 | B4: 5.5
A5: P150d UNDER 18 REPERTOIRE CLASS - Grade 4 | B5: 6
A6: P150e UNDER 18 REPERTOIRE CLASS - Grade 5 | B6: 6
A7: P151a ADULT: Grade 1-4 | B7: 6
A8: P151b ADULT: Grade 5-8 | B8: 6.5
A9: P152 UNDER 11: Prep/Grade 1 | B9: 5.5
A10: P153 UNDER 14: Grade 2 or 3 | B10: 5.5
A11: P154 UNDER 16: Grade 4 or 5 | B11: 6
A12: P155 UNDER 15: Sonatina | B12: 6
A13: P156 UNDER 15: Baroque | B13: 6
... A37: P190 OPEN – ORIGINAL COMPOSITION | B37: 6.5

Sheet Piano
A1: Piano Classes | B1: Fee | C1: Name of entrant/s (put group name if applicable) | D1: Date of birth (if applicable) | E1: School year/s | G1: TOTAL FEE: | H1: =SUM(B2:B101) -> 0
B2: =_xlfn.IFNA(VLOOKUP(A2,P!A:B,2,0),"")
B3: =_xlfn.IFNA(VLOOKUP(A3,P!A:B,2,0),"")
B4: =_xlfn.IFNA(VLOOKUP(A4,P!A:B,2,0),"")
B5: =_xlfn.IFNA(VLOOKUP(A5,P!A:B,2,0),"")
B6: =_xlfn.IFNA(VLOOKUP(A6,P!A:B,2,0),"")
B7: =_xlfn.IFNA(VLOOKUP(A7,P!A:B,2,0),"")
B8: =_xlfn.IFNA(VLOOKUP(A8,P!A:B,2,0),"")
B9: =_xlfn.IFNA(VLOOKUP(A9,P!A:B,2,0),"")
B10: =_xlfn.IFNA(VLOOKUP(A10,P!A:B,2,0),"")
B11: =_xlfn.IFNA(VLOOKUP(A11,P!A:B,2,0),"")
B12: =_xlfn.IFNA(VLOOKUP(A12,P!A:B,2,0),"")
B13: =_xlfn.IFNA(VLOOKUP(A13,P!A:B,2,0),"")
... B101: =_xlfn.IFNA(VLOOKUP(A101,P!A:B,2,0),"")

Sheet I
A1: VIOLINS
A2: I 30 VIOLIN SOLO – Beginners (10 & under) | B2: 5
A3: I 31 VIOLIN SOLO – Beginners (11 – 13) | B3: 5.5
A4: I 33 VIOLIN SOLO – Grade 1 (11 & under) | B4: 5.5
A5: I 34 VIOLIN SOLO – Grade 2 (12 & under) | B5: 5.5
A6: I 35 VIOLIN SOLO – Grade 3 (13 & under) | B6: 5.5
A7: I 36 VIOLIN SOLO – Grade 4 (14 & under) | B7: 6
A8: I 37 VIOLIN SOLO – Grade 5 (16 & under) | B8: 6
A9: I 38 VIOLIN SOLO – Grade 6-8 (Under 18) | B9: 6
A10: I 39 VIOLIN SOLO – Open (own choice) | B10: 6
A11: I 39 VIOLIN SOLO – Open (own choice) | B11: 6
A12: I 39 VIOLIN SOLO – Open (own choice) | B12: 6
A13: I 39 VIOLIN SOLO – Open (own choice) | B13: 6
... A15: I 41 VIOLIN SONATA – Open | B15: 7
A16: SET PIECES, other instruments; piece 3 from list A of the current Assoc.Board syllabus
A17: SP1-2 Set piece grades 1-2 | B17: 5.5
A18: SP3 Set piece grade 3 | B18: 5.5
A19: SP4-5 Set piece grades 4-5 | B19: 6
A20: SP6-7 Set piece grades 6-7 | B20: 6
A21: SP8 Set piece grade8 | B21: 6
A22: OCa SOLO - Open, beginners | B22: 6
A23: OCb SOLO - Open, grades 1-2 | B23: 6
A24: OCc SOLO - Open, grades 3-5 | B24: 6
A25: OCd SOLO - Open, grades 6-7 | B25: 6
A26: RECITAL - Open | B26: 7
A27: SONATA - Open | B27: 7
A28: I 52a ORIGINAL COMPOSITION 12 & under | B28: 6
A29: I 52b ORIGINAL COMPOSITION 18 & under
A30: I 52c ORIGINAL COMPOSITION Open
A31: ENSEMBLES Own Choice of piece
A32: I 53a STRING DUET 12 & under | B32: 7
A33: I 53b STRING DUET 18 & under | B33: 7
A34: I 53c STRING DUET Open | B34: 7
A35: I 54a ADULT and CHILD 12 & under STRING DUET | B35: 7
A36: I 54b ADULT and CHILD 18 & under STRING DUET | B36: 7
A37: I 55 SONATA (Stringed Instrument and Piano) | B37: 7.5
A38: I 56a WOODWIND DUET 12 & under | B38: 7
A39: I 56b WOODWIND DUET 18 & under | B39: 7
A40: I 56c WOODWIND DUET Open | B40: 7
A41: I 57a ADULT and CHILD 12 & under WIND DUET | B41: 7
A42: I 57b ADULT and CHILD 18 & under WIND DUET | B42: 7
A43: I 58 SONATA (Wind Instrument and Piano) | B43: 7.5
... A49: I 61 SONATA (Brass Instrument and Piano) | B49: 7.5
A50: ENSEMBLES
A51: I 62 JUNIOR ENSEMBLE Age 12 & under 3+ players | B51: 11
A52: I 63 ENSEMBLE 3-6 players | B52: 11
A53: I 64 ENSEMBLE 7-12 players | B53: 11
A54: I 65 ORCHESTRA 12+ players | B54: 11
A55: I 66 ORCHESTRA AND CHOIR | B55: 11
A56: I 67 JAZZ GROUP | B56: 11
A57: I 68 FOLK GROUP | B57: 11

Sheet Instruments
A1: Violin
A2: Viola
A3: Cello
A4: Double Bass
A5: Recorder
A6: Flute
A7: Piccolo
A8: Clarinet
A9: Oboe
A10: Bassoon
A11: Cor Anglais
A12: Cornet
... A25: Other (please specify next to entrant's name)

Sheet Instrumental
A1: Instrumental Classes | B1: INSTRUMENT | C1: Fee | D1: Name of entrant/s (put group name if applicable) | E1: Date of birth (if applicable) | F1: School year/s | H1: TOTAL FEE: | I1: =SUM(C2:C101) -> 0
C2: =_xlfn.IFNA(VLOOKUP(A2,I!A:B,2,0),"")
C3: =_xlfn.IFNA(VLOOKUP(A3,I!A:B,2,0),"")
C4: =_xlfn.IFNA(VLOOKUP(A4,I!A:B,2,0),"")
C5: =_xlfn.IFNA(VLOOKUP(A5,I!A:B,2,0),"")
C6: =_xlfn.IFNA(VLOOKUP(A6,I!A:B,2,0),"")
C7: =_xlfn.IFNA(VLOOKUP(A7,I!A:B,2,0),"")
C8: =_xlfn.IFNA(VLOOKUP(A8,I!A:B,2,0),"")
C9: =_xlfn.IFNA(VLOOKUP(A9,I!A:B,2,0),"")
C10: =_xlfn.IFNA(VLOOKUP(A10,I!A:B,2,0),"")
C11: =_xlfn.IFNA(VLOOKUP(A11,I!A:B,2,0),"")
C12: =_xlfn.IFNA(VLOOKUP(A12,I!A:B,2,0),"")
C13: =_xlfn.IFNA(VLOOKUP(A13,I!A:B,2,0),"")
... C101: =_xlfn.IFNA(VLOOKUP(A101,I!A:B,2,0),"")

Sheet My instructions
A1: To create drop down menu type, click on cell you want it in, choose data… data validation… list… then click in source box and choose the cells you want to appear in list
A2: To join up the fee to this =vlookup, then TAB then select from other sheet. What you want to appear has to be in first column on a sheet
A3: To hide the formulae sheets (and this one!) Home-Format-hide…
